BEGIN:VCALENDAR
VERSION:2.0
PRODID:icalendar-ruby
CALSCALE:GREGORIAN
METHOD:PUBLISH
BEGIN:VTIMEZONE
TZID:Australia/Perth
BEGIN:STANDARD
DTSTART:20090329T020000
TZOFFSETFROM:+0900
TZOFFSETTO:+0800
TZNAME:AWST
END:STANDARD
END:VTIMEZONE
BEGIN:VEVENT
DTSTAMP:20260424T062644Z
UID:inspection_3005542
DTSTART;TZID=Australia/Perth:20260430T161500
DTEND;TZID=Australia/Perth:20260430T163000
CLASS:PUBLIC
CREATED:20260420T134910
DESCRIPTION: 
LAST-MODIFIED:20260420T134910
LOCATION:6 / 1A Charles Street\, SOUTH FREMANTLE WA 6162\, Australia
SUMMARY:6 / 1A Charles Street\,  Inspection
URL;VALUE=URI:https://www.mintrealestate.com.au/
END:VEVENT
END:VCALENDAR
